BEGIN:VCALENDAR
VERSION:2.0
PRODID:-//ChamberMaster//Event Calendar 2.0//EN
METHOD:PUBLISH
X-PUBLISHED-TTL:P1H
REFRESH-INTERVAL:P1H
CALSCALE:GREGORIAN
BEGIN:VTIMEZONE
TZID:America/New_York
BEGIN:DAYLIGHT
RRULE:FREQ=YEARLY;BYMONTH=3;BYDAY=2SU
DTSTART:20070101T000000
TZOFFSETFROM:-0500
TZOFFSETTO:-0400
TZNAME:Eastern Daylight Time
END:DAYLIGHT
BEGIN:STANDARD
RRULE:FREQ=YEARLY;BYMONTH=11;BYDAY=1SU
DTSTART:20070101T000000
TZOFFSETFROM:-0400
TZOFFSETTO:-0500
TZNAME:Eastern Standard Time
END:STANDARD
END:VTIMEZONE
BEGIN:VEVENT
DTSTART;TZID=America/New_York:20260428T090000
DTEND;TZID=America/New_York:20260428T100000
X-MICROSOFT-CDO-ALLDAYEVENT:FALSE
SUMMARY:Build to Prosper
DESCRIPTION:Join us for an informative session on AACUC's Build to Prosper Program. An innovative initiative designed to invest directly in the future of small credit unions in partnership with GreenPath Financial Wellness. During this event\, we will provide an overview of the program\, including a live look at key components such as the Partner Center\, reporting tools\, cobranded website\, and Central Hub\, giving you a clear understanding of how everything works together to support your organization.We will also walk through what it means to take the next step\, covering how the agreement is structured\, what participation looks like\, and the level of partner support you can expect throughout the process.The Build to Prosper grant is specifically designed for small* credit unions seeking to expand their financial health and wellness offerings. This opportunity covers the cost of establishing a new partnership with GreenPath Financial Wellness\, along with one year of cobranded resources and services to support your members.AACUC recognizes that many small credit unions face resource constraints while striving to meet important strategic goals. This program helps address key challenges such as increasing access to financial counseling\, expanding financial literacy and community outreach efforts\, and providing better support and guidance for members facing loan denials.With over 65 years of experience\, GreenPath Financial Wellness offers comprehensive support including counseling\, education\, strategy planning\, impact reporting\, and content delivery ensuring your credit union is equipped to make a meaningful impact.AACUC remains committed to supporting small credit unions and is excited to provide not only this funding opportunity but also hands-on implementation support to help you succeed.For this program\, small credit unions are loosely defined as those with fewer than 3\,000 members.
X-ALT-DESC;FMTTYPE=text/html:<!DOCTYPE html><html><head><title></title></head><body aria-disabled="false"><div data-scroll-from-top="" data-scroll-root=""><main><section data-scroll-anchor="false" data-testid="conversation-turn-2" data-turn="assistant" data-turn-id="request-WEB:50f8368c-0c51-41a2-80a6-e03d0bcef5d4-0" dir="auto"><div data-message-author-role="assistant" data-message-id="d0defeba-a19f-4555-9731-f7f54cf792b6" data-message-model-slug="gpt-5-3" data-turn-start-message="true" dir="auto" tabindex="0"><p data-end="490" data-start="0">Join us for an informative session on AACUC&rsquo\;s Build to Prosper Program. An innovative initiative designed to invest directly in the future of small credit unions in partnership with GreenPath Financial Wellness. During this event\, we will provide an overview of the program\, including a live look at key components such as the Partner Center\, reporting tools\, cobranded website\, and Central Hub\, giving you a clear understanding of how everything works together to support your organization.</p><p data-end="698" data-start="492">We will also walk through what it means to take the next step\, covering how the agreement is structured\, what participation looks like\, and the level of partner support you can expect throughout the process.</p><p data-end="1024" data-start="700">The Build to Prosper grant is specifically designed for small* credit unions seeking to expand their financial health and wellness offerings. This opportunity covers the cost of establishing a new partnership with GreenPath Financial Wellness\, along with one year of cobranded resources and services to support your members.</p><p data-end="1377" data-start="1026">AACUC recognizes that many small credit unions face resource constraints while striving to meet important strategic goals. This program helps address key challenges such as increasing access to financial counseling\, expanding financial literacy and community outreach efforts\, and providing better support and guidance for members facing loan denials.</p><p data-end="1629" data-start="1379">With over 65 years of experience\, GreenPath Financial Wellness offers comprehensive support including counseling\, education\, strategy planning\, impact reporting\, and content delivery&mdash\;ensuring your credit union is equipped to make a meaningful impact.</p><p data-end="1810" data-start="1631">AACUC remains committed to supporting small credit unions and is excited to provide not only this funding opportunity but also hands-on implementation support to help you succeed.</p><p data-end="1911" data-is-last-node="" data-is-only-node="" data-start="1812"><em data-end="1911" data-is-last-node="" data-start="1812">For this program\, small credit unions are loosely defined as those with fewer than 3\,000 members.</em></p></div></section><form data-type="unified-composer"><br></form></main></div></body></html>
LOCATION:
UID:e.3327.1448164
SEQUENCE:3
DTSTAMP:20260423T143859Z
URL:https://members.aacuc.org/calendar/Details/build-to-prosper-1715167?sourceTypeId=Hub
END:VEVENT
END:VCALENDAR
